BEGIN:VCALENDAR
VERSION:2.0
PRODID:-//RockBurg Feeds - ECPv6.15.20//NONSGML v1.0//EN
CALSCALE:GREGORIAN
METHOD:PUBLISH
X-WR-CALNAME:RockBurg Feeds
X-ORIGINAL-URL:https://rockburgfeeds.org
X-WR-CALDESC:Events for RockBurg Feeds
REFRESH-INTERVAL;VALUE=DURATION:PT1H
X-Robots-Tag:noindex
X-PUBLISHED-TTL:PT1H
BEGIN:VTIMEZONE
TZID:America/New_York
BEGIN:DAYLIGHT
TZOFFSETFROM:-0500
TZOFFSETTO:-0400
TZNAME:EDT
DTSTART:20250309T070000
END:DAYLIGHT
BEGIN:STANDARD
TZOFFSETFROM:-0400
TZOFFSETTO:-0500
TZNAME:EST
DTSTART:20251102T060000
END:STANDARD
BEGIN:DAYLIGHT
TZOFFSETFROM:-0500
TZOFFSETTO:-0400
TZNAME:EDT
DTSTART:20260308T070000
END:DAYLIGHT
BEGIN:STANDARD
TZOFFSETFROM:-0400
TZOFFSETTO:-0500
TZNAME:EST
DTSTART:20261101T060000
END:STANDARD
BEGIN:DAYLIGHT
TZOFFSETFROM:-0500
TZOFFSETTO:-0400
TZNAME:EDT
DTSTART:20270314T070000
END:DAYLIGHT
BEGIN:STANDARD
TZOFFSETFROM:-0400
TZOFFSETTO:-0500
TZNAME:EST
DTSTART:20271107T060000
END:STANDARD
END:VTIMEZONE
BEGIN:VEVENT
DTSTART;TZID=America/New_York:20260421T100000
DTEND;TZID=America/New_York:20260421T140000
DTSTAMP:20260421T053808
CREATED:20251222T141316Z
LAST-MODIFIED:20260325T183315Z
UID:10000475-1776765600-1776780000@rockburgfeeds.org
SUMMARY:Blessed Sacrament Food Pantry
DESCRIPTION:HOURS: Tuesday – Friday 10:00 am – 2:00 pm \nPHONE: (540) 434-4341 \nE-MAIL: office@bsccva.org \nLOCATION: The Holy Family Center\, 2 E Wolfe St.\, Harrisonburg\, VA \nWEBSITE: www.bsccva.org
URL:https://rockburgfeeds.org/event/blessed-sacrament-food-pantry-2-3/2026-04-21/
LOCATION:Blessed Sacrament Food Pantry\, 2 East Wolfe St\, Harrisonburg\, VA\, 22802\, United States
CATEGORIES:Groceries
GEO:38.4516087;-78.867679
X-APPLE-STRUCTURED-LOCATION;VALUE=URI;X-ADDRESS=DESCRIPTION:HOURS: Tuesday – Friday 10:00 am – 2:00 pm \nPHONE: (540) 434-4341 \nE-MAIL: office@bsccva.org \n The Holy Family Center 2 E Wolfe St. Harrisonburg VA \nWEBSITE: www.bsccva.org;X-APPLE-RADIUS=500;X-TITLE=2 East Wolfe St:geo:-78.867679,38.4516087
END:VEVENT
BEGIN:VEVENT
DTSTART;TZID=America/New_York:20260421T120000
DTEND;TZID=America/New_York:20260421T134500
DTSTAMP:20260421T053808
CREATED:20240114T181303Z
LAST-MODIFIED:20251222T194514Z
UID:10001477-1776772800-1776779100@rockburgfeeds.org
SUMMARY:Elkton Area United Services Food Pantry
DESCRIPTION:HOURS: The Pantry is currently open every Tuesday from 12:00 PM to 1:45 PM and Friday’s 12:00 PM to 1:45 PM.   Clients are asked to park and a volunteer will come to you. \nPHONE: 540-298-8685 – ext #2 \nE-MAIL: volunteers@elktonatheart.org \nLOCATION: 412 Gibbons Avenue\, Elkton\, VA 22827 \nWEBSITE: elktonatheart.org/food-pantry/
URL:https://rockburgfeeds.org/event/elkton-area-united-services-food-pantry/2026-04-21/
LOCATION:Elkton Area United Services Food Pantry\, 412 Gibbons Ave\, Elkton\, VA\, 22827\, United States
CATEGORIES:Groceries
GEO:38.4089285;-78.6252283
X-APPLE-STRUCTURED-LOCATION;VALUE=URI;X-ADDRESS=DESCRIPTION:HOURS: The Pantry is currently open every Tuesday from 12:00 PM to 1:45 PM and Friday’s 12:00 PM to 1:45 PM.   Clients are asked to park and a volunteer will come to you. \nPHONE: 540-298-8685 – ext #2 \nE-MAIL: volunteers@elktonatheart.org \n 412 Gibbons Avenue Elkton VA 22827 \nWEBSITE: elktonatheart.org/food-pantry/;X-APPLE-RADIUS=500;X-TITLE=412 Gibbons Ave:geo:-78.6252283,38.4089285
END:VEVENT
END:VCALENDAR