BEGIN:VCALENDAR
VERSION:2.0
PRODID:-//RockBurg Feeds - ECPv6.15.20//NONSGML v1.0//EN
CALSCALE:GREGORIAN
METHOD:PUBLISH
X-WR-CALNAME:RockBurg Feeds
X-ORIGINAL-URL:https://rockburgfeeds.org
X-WR-CALDESC:Events for RockBurg Feeds
REFRESH-INTERVAL;VALUE=DURATION:PT1H
X-Robots-Tag:noindex
X-PUBLISHED-TTL:PT1H
BEGIN:VTIMEZONE
TZID:America/New_York
BEGIN:DAYLIGHT
TZOFFSETFROM:-0500
TZOFFSETTO:-0400
TZNAME:EDT
DTSTART:20250309T070000
END:DAYLIGHT
BEGIN:STANDARD
TZOFFSETFROM:-0400
TZOFFSETTO:-0500
TZNAME:EST
DTSTART:20251102T060000
END:STANDARD
BEGIN:DAYLIGHT
TZOFFSETFROM:-0500
TZOFFSETTO:-0400
TZNAME:EDT
DTSTART:20260308T070000
END:DAYLIGHT
BEGIN:STANDARD
TZOFFSETFROM:-0400
TZOFFSETTO:-0500
TZNAME:EST
DTSTART:20261101T060000
END:STANDARD
BEGIN:DAYLIGHT
TZOFFSETFROM:-0500
TZOFFSETTO:-0400
TZNAME:EDT
DTSTART:20270314T070000
END:DAYLIGHT
BEGIN:STANDARD
TZOFFSETFROM:-0400
TZOFFSETTO:-0500
TZNAME:EST
DTSTART:20271107T060000
END:STANDARD
END:VTIMEZONE
BEGIN:VEVENT
DTSTART;TZID=America/New_York:20260422T100000
DTEND;TZID=America/New_York:20260422T140000
DTSTAMP:20260424T044917
CREATED:20251222T141316Z
LAST-MODIFIED:20260325T183315Z
UID:10016664-1776852000-1776866400@rockburgfeeds.org
SUMMARY:Blessed Sacrament Food Pantry
DESCRIPTION:HOURS: Tuesday – Friday 10:00 am – 2:00 pm \nPHONE: (540) 434-4341 \nE-MAIL: office@bsccva.org \nLOCATION: The Holy Family Center\, 2 E Wolfe St.\, Harrisonburg\, VA \nWEBSITE: www.bsccva.org
URL:https://rockburgfeeds.org/event/blessed-sacrament-food-pantry-2-3/2026-04-22/
LOCATION:Blessed Sacrament Food Pantry\, 2 East Wolfe St\, Harrisonburg\, VA\, 22802\, United States
CATEGORIES:Groceries
GEO:38.4516087;-78.867679
X-APPLE-STRUCTURED-LOCATION;VALUE=URI;X-ADDRESS=DESCRIPTION:HOURS: Tuesday – Friday 10:00 am – 2:00 pm \nPHONE: (540) 434-4341 \nE-MAIL: office@bsccva.org \n The Holy Family Center 2 E Wolfe St. Harrisonburg VA \nWEBSITE: www.bsccva.org;X-APPLE-RADIUS=500;X-TITLE=2 East Wolfe St:geo:-78.867679,38.4516087
END:VEVENT
BEGIN:VEVENT
DTSTART;TZID=America/New_York:20260422T163000
DTEND;TZID=America/New_York:20260422T171500
DTSTAMP:20260424T044917
CREATED:20251222T140537Z
LAST-MODIFIED:20260128T151313Z
UID:10016402-1776875400-1776878100@rockburgfeeds.org
SUMMARY:The Soup Kitchen @ Blessed Sacrament Catholic Church
DESCRIPTION:HOURS: Wednesdays\, 4:30 – 5:30 pm \nPHONE: (540) 434-4341 \nE-MAIL: office@bsccva.com \nLOCATION: Blessed Sacrament Church (Enter through the double doors on N Federal St.)\, \nWEBSITE: www.bsccva.org
URL:https://rockburgfeeds.org/event/the-soup-kitchen-blessed-sacrament-catholic-church-2/2026-04-22/
LOCATION:The Soup Kitchen @ Blessed Sacrament Catholic Church\, 154 N. Main St\, Harrisonburg\, VA\, 22801\, United States
CATEGORIES:Get Hot Meals
GEO:38.4510484;-78.8677757
X-APPLE-STRUCTURED-LOCATION;VALUE=URI;X-ADDRESS=DESCRIPTION:HOURS: Wednesdays 4:30 – 5:30 pm \nPHONE: (540) 434-4341 \nE-MAIL: office@bsccva.com \n Blessed Sacrament Church (Enter through the double doors on N Federal St.) \nWEBSITE: www.bsccva.org;X-APPLE-RADIUS=500;X-TITLE=154 N. Main St:geo:-78.8677757,38.4510484
END:VEVENT
BEGIN:VEVENT
DTSTART;TZID=America/New_York:20260422T183000
DTEND;TZID=America/New_York:20260422T193000
DTSTAMP:20260424T044917
CREATED:20251219T190337Z
LAST-MODIFIED:20260128T151613Z
UID:10003746-1776882600-1776886200@rockburgfeeds.org
SUMMARY:Patchwork Pantry
DESCRIPTION:HOURS: Wednesdays\, 6:30-7:30pm \nPHONE: (540)-466-4173 \nLOCATION: Community Mennonite Church\, 70 S. High Street\, Harrisonburg\, VA 22801 \nWEBSITE: https://www.patchworkpantry.org/
URL:https://rockburgfeeds.org/event/patchwork-pantry-2/2026-04-22/
LOCATION:Patchwork Pantry\, 70 S. High St\, Harrisonburg\, VA\, 22801\, United States
CATEGORIES:Groceries
GEO:38.4491272;-78.8722784
X-APPLE-STRUCTURED-LOCATION;VALUE=URI;X-ADDRESS=DESCRIPTION:HOURS: Wednesdays 6:30-7:30pm \nPHONE: (540)-466-4173 \n Community Mennonite Church 70 S. High Street Harrisonburg VA 22801 \nWEBSITE: https://www.patchworkpantry.org/;X-APPLE-RADIUS=500;X-TITLE=70 S. High St:geo:-78.8722784,38.4491272
END:VEVENT
END:VCALENDAR